BEGIN:VCALENDAR
VERSION:2.0
PRODID:-//Kuala Lumpur Accueil - ECPv6.6.3//NONSGML v1.0//EN
CALSCALE:GREGORIAN
METHOD:PUBLISH
X-WR-CALNAME:Kuala Lumpur Accueil
X-ORIGINAL-URL:https://kualalumpuraccueil.com
X-WR-CALDESC:évènements pour Kuala Lumpur Accueil
REFRESH-INTERVAL;VALUE=DURATION:PT1H
X-Robots-Tag:noindex
X-PUBLISHED-TTL:PT1H
BEGIN:VTIMEZONE
TZID:Asia/Kuala_Lumpur
BEGIN:STANDARD
TZOFFSETFROM:+0800
TZOFFSETTO:+0800
TZNAME:+08
DTSTART:20260101T000000
END:STANDARD
END:VTIMEZONE
BEGIN:VEVENT
DTSTART;TZID=Asia/Kuala_Lumpur:20260314T190000
DTEND;TZID=Asia/Kuala_Lumpur:20260314T223000
DTSTAMP:20260425T092456
CREATED:20260223T024747Z
LAST-MODIFIED:20260302T012347Z
UID:10000246-1773514800-1773527400@kualalumpuraccueil.com
SUMMARY:Soirée Raclette et Fondue au Chalet Suisse
DESCRIPTION:La fraîcheur de l’hiver vous manque ? Venez partager avec nous une soirée Raclette ET Fondue au Chalet Suisse le Samedi 14 Mars 2026 ! \nLe chef vous propose :EntréePlat : Raclette et Fondue Suisse\, À VOLONTÉDessertBoissons : un verre de vin (rouge ou blanc) ou une bière \nInformations pratiques : Lieu : Chalet Suisse  – Jalan Ampang Utama 1/1 Tarif : 220 RM par personne pour les membres KL Accueil et 260 RM pour les non-membres (demi-tarif pour les enfants jusqu’à 12 ans) Heure : 19h30 \nPour confirmer votre participation\, merci de contacter Delphine via WhatsApp au +60124352612 ou via le QR code du flyer ci-dessous. \n Toute annulation la veille ou le jour même non remplacée est due.
URL:https://kualalumpuraccueil.com/calendrier/soiree-raclette-et-fondue-au-chalet-suisse/
ATTACH;FMTTYPE=image/png:https://kualalumpuraccueil.com/wp-content/uploads/2026/02/2026-03-14-raclette-fondue--e1771814861702.png
END:VEVENT
END:VCALENDAR