BEGIN:VCALENDAR
VERSION:2.0
PRODID:-//Kuala Lumpur Accueil - ECPv6.6.3//NONSGML v1.0//EN
CALSCALE:GREGORIAN
METHOD:PUBLISH
X-ORIGINAL-URL:https://kualalumpuraccueil.com
X-WR-CALDESC:évènements pour Kuala Lumpur Accueil
REFRESH-INTERVAL;VALUE=DURATION:PT1H
X-Robots-Tag:noindex
X-PUBLISHED-TTL:PT1H
BEGIN:VTIMEZONE
TZID:Asia/Kuala_Lumpur
BEGIN:STANDARD
TZOFFSETFROM:+0800
TZOFFSETTO:+0800
TZNAME:+08
DTSTART:20260101T000000
END:STANDARD
END:VTIMEZONE
BEGIN:VEVENT
DTSTART;TZID=Asia/Kuala_Lumpur:20260315T173000
DTEND;TZID=Asia/Kuala_Lumpur:20260315T200000
DTSTAMP:20260425T080948
CREATED:20260302T012549Z
LAST-MODIFIED:20260302T012551Z
UID:10000249-1773595800-1773604800@kualalumpuraccueil.com
SUMMARY:Iftar Masjed Jamek
DESCRIPTION:Dans le cadre du mois béni de Ramadan\, nous avons la joie de vous inviter à partager un Iftar à la Masjid Jamek le dimanche 15 mars 2026\, de 17h30 à 20h. \nSituée au cœur historique de Kuala Lumpur\, à la confluence des rivières Klang et Gombak\, Masjid Jamek est l’une des plus anciennes et emblématiques mosquées de la ville. Son architecture\, ses arcades élégantes et son atmosphère paisible offrent un cadre particulièrement propice au recueillement et au partage. \nNous nous retrouverons avant la rupture du jeûne afin de profiter ensemble de l’ambiance spirituelle du lieu\, d’assister à l’appel à la prière et de rompre le jeûne dans un esprit de fraternité et de convivialité. Ce sera un moment privilégié pour renforcer nos liens\, échanger et vivre pleinement la dimension collective du Ramadan. \nL’Iftar est offert par la mosquée. Pour celles et ceux qui le souhaitent\, il sera possible de faire une donation sur place en signe de soutien et de contribution. \n Inscription obligatoire au : 012 615 1149 \nNombre de places très limité. \nNous espérons vous retrouver nombreux pour ce beau moment de partage et de spiritualité.
URL:https://kualalumpuraccueil.com/calendrier/iftar-masjed-jamek/
ATTACH;FMTTYPE=image/png:https://kualalumpuraccueil.com/wp-content/uploads/2026/03/image-3-e1772414739199.png
END:VEVENT
END:VCALENDAR