BEGIN:VCALENDAR
VERSION:2.0
PRODID:-//Kuala Lumpur Accueil - ECPv6.6.3//NONSGML v1.0//EN
CALSCALE:GREGORIAN
METHOD:PUBLISH
X-ORIGINAL-URL:https://kualalumpuraccueil.com
X-WR-CALDESC:évènements pour Kuala Lumpur Accueil
REFRESH-INTERVAL;VALUE=DURATION:PT1H
X-Robots-Tag:noindex
X-PUBLISHED-TTL:PT1H
BEGIN:VTIMEZONE
TZID:Asia/Kuala_Lumpur
BEGIN:STANDARD
TZOFFSETFROM:+0800
TZOFFSETTO:+0800
TZNAME:+08
DTSTART:20260101T000000
END:STANDARD
END:VTIMEZONE
BEGIN:VEVENT
DTSTART;TZID=Asia/Kuala_Lumpur:20260402T100000
DTEND;TZID=Asia/Kuala_Lumpur:20260402T120000
DTSTAMP:20260424T111244
CREATED:20260407T004921Z
LAST-MODIFIED:20260407T004926Z
UID:10000268-1775124000-1775131200@kualalumpuraccueil.com
SUMMARY:Café Voyage – Inde du Sud & Indonésie
DESCRIPTION:Nous avons le plaisir de vous inviter à notre premier Café Voyage\, qui se tiendra le jeudi 02 avril 2026\, de 10h à 12h.\n \n\nÀ cette occasion\, nous vous proposons une belle escapade à la découverte de l’Inde du Sud et de l’Indonésie\, deux destinations riches en culture\, paysages et expériences uniques.Cette rencontre sera animée par David Gaulin de Shanti Travel\, qui partagera avec nous ses conseils\, idées d’itinéraires et coups de cœur pour vous inspirer dans vos futurs voyages.\nCe moment convivial sera également l’occasion d’échanger entre membres autour d’un café et de poser toutes vos questions.
URL:https://kualalumpuraccueil.com/calendrier/cafe-voyage-inde-du-sud-indonesie/
ATTACH;FMTTYPE=image/png:https://kualalumpuraccueil.com/wp-content/uploads/2026/04/image-7-e1775522932890.png
END:VEVENT
END:VCALENDAR