BEGIN:VCALENDAR
VERSION:2.0
PRODID:-//Kuala Lumpur Accueil - ECPv6.6.3//NONSGML v1.0//EN
CALSCALE:GREGORIAN
METHOD:PUBLISH
X-WR-CALNAME:Kuala Lumpur Accueil
X-ORIGINAL-URL:https://kualalumpuraccueil.com
X-WR-CALDESC:évènements pour Kuala Lumpur Accueil
REFRESH-INTERVAL;VALUE=DURATION:PT1H
X-Robots-Tag:noindex
X-PUBLISHED-TTL:PT1H
BEGIN:VTIMEZONE
TZID:Asia/Kuala_Lumpur
BEGIN:STANDARD
TZOFFSETFROM:+0800
TZOFFSETTO:+0800
TZNAME:+08
DTSTART:20260101T000000
END:STANDARD
END:VTIMEZONE
BEGIN:VEVENT
DTSTART;TZID=Asia/Kuala_Lumpur:20260417T090000
DTEND;TZID=Asia/Kuala_Lumpur:20260417T120000
DTSTAMP:20260424T125058
CREATED:20260407T002453Z
LAST-MODIFIED:20260407T002455Z
UID:10000262-1776416400-1776427200@kualalumpuraccueil.com
SUMMARY:Atelier: création d'un bouquet de fleur en Origami
DESCRIPTION:Et si nous prenions le temps de créer de nos mains tout en découvrant l’art délicat de l’origami ? \nSonia vous propose un atelier convivial et créatif autour de la réalisation d’un bouquet de fleurs en origami. À travers le pliage du papier\, vous apprendrez à transformer de simples feuilles en compositions florales élégantes et durables. Un moment apaisant\, propice à la concentration et à l’expression artistique\, tout en partageant un agréable moment ensemble. \nPour rendre l’expérience encore plus plaisante\, chacun pourra personnaliser son bouquet selon ses envies : choix des couleurs\, formes des fleurs… Une belle occasion de repartir avec une création unique\, faite par vous. \nNous nous retrouverons dans une ambiance chaleureuse pour laisser libre cours à notre créativité. \n Date : Vendredi 17 avril 2026 Horaire : de 09h00 à 12h00 Lieu : à partager sur le groupe whatsapp dédié. Activité : création d’un bouquet de fleurs en origami Tarif : 90 RM (matériel inclus) Animé par : Sonia \n Nombre de places limité – inscription obligatoire \nL’activité est accessible à tous\, débutants bienvenus \nNous serions ravis de vous retrouver pour cette matinée créative\, douce et inspirante.
URL:https://kualalumpuraccueil.com/calendrier/atelier-creation-dun-bouquet-de-fleur-en-origami/
ATTACH;FMTTYPE=image/png:https://kualalumpuraccueil.com/wp-content/uploads/2026/04/image-2-e1775521484894.png
END:VEVENT
END:VCALENDAR