BEGIN:VCALENDAR
VERSION:2.0
PRODID:-//Kuala Lumpur Accueil - ECPv6.6.3//NONSGML v1.0//EN
CALSCALE:GREGORIAN
METHOD:PUBLISH
X-WR-CALNAME:Kuala Lumpur Accueil
X-ORIGINAL-URL:https://kualalumpuraccueil.com
X-WR-CALDESC:évènements pour Kuala Lumpur Accueil
REFRESH-INTERVAL;VALUE=DURATION:PT1H
X-Robots-Tag:noindex
X-PUBLISHED-TTL:PT1H
BEGIN:VTIMEZONE
TZID:Asia/Kuala_Lumpur
BEGIN:STANDARD
TZOFFSETFROM:+0800
TZOFFSETTO:+0800
TZNAME:+08
DTSTART:20260101T000000
END:STANDARD
END:VTIMEZONE
BEGIN:VEVENT
DTSTART;TZID=Asia/Kuala_Lumpur:20260420T090000
DTEND;TZID=Asia/Kuala_Lumpur:20260420T120000
DTSTAMP:20260420T014334
CREATED:20260407T004615Z
LAST-MODIFIED:20260407T004618Z
UID:10000267-1776675600-1776686400@kualalumpuraccueil.com
SUMMARY:Jalan Jalan: balade à thème architecture de KL
DESCRIPTION:Plus d’informations à venir.
URL:https://kualalumpuraccueil.com/calendrier/jalan-jalan-balade-a-theme-architecture-de-kl/
ATTACH;FMTTYPE=image/png:https://kualalumpuraccueil.com/wp-content/uploads/2025/03/miniatures-afm.png
END:VEVENT
END:VCALENDAR